BEGIN:VCALENDAR
VERSION:2.0
PRODID:-//KC Common Good - ECPv6.15.18//NONSGML v1.0//EN
CALSCALE:GREGORIAN
METHOD:PUBLISH
X-WR-CALNAME:KC Common Good
X-ORIGINAL-URL:https://kccommongood.org
X-WR-CALDESC:Events for KC Common Good
REFRESH-INTERVAL;VALUE=DURATION:PT1H
X-Robots-Tag:noindex
X-PUBLISHED-TTL:PT1H
BEGIN:VTIMEZONE
TZID:America/Chicago
BEGIN:DAYLIGHT
TZOFFSETFROM:-0600
TZOFFSETTO:-0500
TZNAME:CDT
DTSTART:20230312T080000
END:DAYLIGHT
BEGIN:STANDARD
TZOFFSETFROM:-0500
TZOFFSETTO:-0600
TZNAME:CST
DTSTART:20231105T070000
END:STANDARD
BEGIN:DAYLIGHT
TZOFFSETFROM:-0600
TZOFFSETTO:-0500
TZNAME:CDT
DTSTART:20240310T080000
END:DAYLIGHT
BEGIN:STANDARD
TZOFFSETFROM:-0500
TZOFFSETTO:-0600
TZNAME:CST
DTSTART:20241103T070000
END:STANDARD
BEGIN:DAYLIGHT
TZOFFSETFROM:-0600
TZOFFSETTO:-0500
TZNAME:CDT
DTSTART:20250309T080000
END:DAYLIGHT
BEGIN:STANDARD
TZOFFSETFROM:-0500
TZOFFSETTO:-0600
TZNAME:CST
DTSTART:20251102T070000
END:STANDARD
BEGIN:DAYLIGHT
TZOFFSETFROM:-0600
TZOFFSETTO:-0500
TZNAME:CDT
DTSTART:20260308T080000
END:DAYLIGHT
BEGIN:STANDARD
TZOFFSETFROM:-0500
TZOFFSETTO:-0600
TZNAME:CST
DTSTART:20261101T070000
END:STANDARD
END:VTIMEZONE
BEGIN:VEVENT
DTSTART;TZID=America/Chicago:20250614T083000
DTEND;TZID=America/Chicago:20250614T110000
DTSTAMP:20260422T054757
CREATED:20250528T171605Z
LAST-MODIFIED:20250528T171605Z
UID:10001028-1749889800-1749898800@kccommongood.org
SUMMARY:Unite KC Walk for Unity
DESCRIPTION:https://www.unitekc.org/events/walk-for-unity-5th-annual \n \nUnite KC’s 5th Annual Walk for Unity is a celebration of community\, diversity\, and togetherness. This family-friendly event brings people together to walk in solidarity\, promote peace\, and strengthen bonds across Kansas City. Participants will enjoy a day of inspiring conversations\, local performances\, and activities that highlight the power of unity. Join us in walking for a brighter\, more connected future for our city!
URL:https://kccommongood.org/community-event/unite-kc-walk-for-unity-2/
LOCATION:Manuel Career and Technical Center\, 1215 East Truman Road\, Kansas City\, 64106\, United States
ATTACH;FMTTYPE=image/jpeg:https://kccommongood.org/wp-content/uploads/2025/05/9488E88F-321D-4B9E-AD42-8AE79A9AAFEA-scaled.jpeg
ORGANIZER;CN="Unite KC":MAILTO:info@unitekc.org
GEO:39.0945086;-94.5684532
X-APPLE-STRUCTURED-LOCATION;VALUE=URI;X-ADDRESS=Manuel Career and Technical Center 1215 East Truman Road Kansas City 64106 United States;X-APPLE-RADIUS=500;X-TITLE=1215 East Truman Road:geo:-94.5684532,39.0945086
END:VEVENT
BEGIN:VEVENT
DTSTART;TZID=America/Chicago:20240608T090000
DTEND;TZID=America/Chicago:20240608T120000
DTSTAMP:20260422T054757
CREATED:20240506T150018Z
LAST-MODIFIED:20240516T173352Z
UID:10000681-1717837200-1717848000@kccommongood.org
SUMMARY:Citywide Fourm
DESCRIPTION:The Forum is an opportunity for youth-focused community agencies to collaborate and discuss ways to better serve youth and families in the Jackson County community.\nHosted by Residential Service in the Jackson County Family Court.
URL:https://kccommongood.org/community-event/citywide-fourm/
LOCATION:Manuel Career and Technical Center\, 1215 East Truman Road\, Kansas City\, 64106\, United States
ATTACH;FMTTYPE=image/png:https://kccommongood.org/wp-content/uploads/2024/05/Citywide-Community-Fourm-flyer-2024.png
GEO:39.0945086;-94.5684532
X-APPLE-STRUCTURED-LOCATION;VALUE=URI;X-ADDRESS=Manuel Career and Technical Center 1215 East Truman Road Kansas City 64106 United States;X-APPLE-RADIUS=500;X-TITLE=1215 East Truman Road:geo:-94.5684532,39.0945086
END:VEVENT
END:VCALENDAR