BEGIN:VCALENDAR
VERSION:2.0
PRODID:-//KC Common Good - ECPv6.15.18//NONSGML v1.0//EN
CALSCALE:GREGORIAN
METHOD:PUBLISH
X-WR-CALNAME:KC Common Good
X-ORIGINAL-URL:https://kccommongood.org
X-WR-CALDESC:Events for KC Common Good
REFRESH-INTERVAL;VALUE=DURATION:PT1H
X-Robots-Tag:noindex
X-PUBLISHED-TTL:PT1H
BEGIN:VTIMEZONE
TZID:America/Chicago
BEGIN:DAYLIGHT
TZOFFSETFROM:-0600
TZOFFSETTO:-0500
TZNAME:CDT
DTSTART:20230312T080000
END:DAYLIGHT
BEGIN:STANDARD
TZOFFSETFROM:-0500
TZOFFSETTO:-0600
TZNAME:CST
DTSTART:20231105T070000
END:STANDARD
BEGIN:DAYLIGHT
TZOFFSETFROM:-0600
TZOFFSETTO:-0500
TZNAME:CDT
DTSTART:20240310T080000
END:DAYLIGHT
BEGIN:STANDARD
TZOFFSETFROM:-0500
TZOFFSETTO:-0600
TZNAME:CST
DTSTART:20241103T070000
END:STANDARD
BEGIN:DAYLIGHT
TZOFFSETFROM:-0600
TZOFFSETTO:-0500
TZNAME:CDT
DTSTART:20250309T080000
END:DAYLIGHT
BEGIN:STANDARD
TZOFFSETFROM:-0500
TZOFFSETTO:-0600
TZNAME:CST
DTSTART:20251102T070000
END:STANDARD
END:VTIMEZONE
BEGIN:VEVENT
DTSTART;TZID=America/Chicago:20240202T183000
DTEND;TZID=America/Chicago:20240203T140000
DTSTAMP:20260422T041449
CREATED:20240123T211125Z
LAST-MODIFIED:20241220T214823Z
UID:10000524-1706898600-1706968800@kccommongood.org
SUMMARY:Justice Revival
DESCRIPTION:Join us with speaker\, Dr. Nicole Price on Friday evening\, February 2nd at 6:30pm. \nFollowed by a Social Justice Training on Saturday\, February 3rd\, 10am-2pm.  Learn how to organize for ACTION with some of Kansas City’s most experienced social justice organizers.
URL:https://kccommongood.org/community-event/justive-revival/
LOCATION:The Oasis International Church\, 11500 E 53rd Street\, Raytown\, United States
ATTACH;FMTTYPE=image/jpeg:https://kccommongood.org/wp-content/uploads/2024/01/Justice-Revival.jpeg
ORGANIZER;CN="Concerned Clergy Coalition":MAILTO:Concernedclergykc@gmail.com
GEO:39.0262745;-94.4456823
X-APPLE-STRUCTURED-LOCATION;VALUE=URI;X-ADDRESS=The Oasis International Church 11500 E 53rd Street Raytown United States;X-APPLE-RADIUS=500;X-TITLE=11500 E 53rd Street:geo:-94.4456823,39.0262745
END:VEVENT
END:VCALENDAR